BEGIN:VCALENDAR
VERSION:2.0
PRODID:-//Inovati - ECPv6.15.11//NONSGML v1.0//EN
CALSCALE:GREGORIAN
METHOD:PUBLISH
X-WR-CALNAME:Inovati
X-ORIGINAL-URL:https://colegioinovati.com.br
X-WR-CALDESC:Eventos para Inovati
REFRESH-INTERVAL;VALUE=DURATION:PT1H
X-Robots-Tag:noindex
X-PUBLISHED-TTL:PT1H
BEGIN:VTIMEZONE
TZID:UTC
BEGIN:STANDARD
TZOFFSETFROM:+0000
TZOFFSETTO:+0000
TZNAME:UTC
DTSTART:20250101T000000
END:STANDARD
END:VTIMEZONE
BEGIN:VEVENT
DTSTART;VALUE=DATE:20260330
DTEND;VALUE=DATE:20260331
DTSTAMP:20260425T160003
CREATED:20251217T185858Z
LAST-MODIFIED:20251217T185916Z
UID:3341-1774828800-1774915199@colegioinovati.com.br
SUMMARY:Assembleia ACEV
DESCRIPTION:
URL:https://colegioinovati.com.br/evento/assembleia-acev-3/
END:VEVENT
END:VCALENDAR