BEGIN:VCALENDAR
VERSION:2.0
PRODID:-//Inovati - ECPv6.15.11//NONSGML v1.0//EN
CALSCALE:GREGORIAN
METHOD:PUBLISH
X-WR-CALNAME:Inovati
X-ORIGINAL-URL:https://colegioinovati.com.br
X-WR-CALDESC:Eventos para Inovati
REFRESH-INTERVAL;VALUE=DURATION:PT1H
X-Robots-Tag:noindex
X-PUBLISHED-TTL:PT1H
BEGIN:VTIMEZONE
TZID:UTC
BEGIN:STANDARD
TZOFFSETFROM:+0000
TZOFFSETTO:+0000
TZNAME:UTC
DTSTART:20250101T000000
END:STANDARD
END:VTIMEZONE
BEGIN:VEVENT
DTSTART;VALUE=DATE:20260808
DTEND;VALUE=DATE:20260809
DTSTAMP:20260426T032523
CREATED:20251217T192012Z
LAST-MODIFIED:20251217T192012Z
UID:3390-1786147200-1786233599@colegioinovati.com.br
SUMMARY:Comemoração Dia dos Pais (Ed. Infantil e 1º Ano)
DESCRIPTION:
URL:https://colegioinovati.com.br/evento/comemoracao-dia-dos-pais-ed-infantil-e-1o-ano/
CATEGORIES:Evento
END:VEVENT
END:VCALENDAR