BEGIN:VCALENDAR
VERSION:2.0
PRODID:-//Inovati - ECPv6.15.11//NONSGML v1.0//EN
CALSCALE:GREGORIAN
METHOD:PUBLISH
X-WR-CALNAME:Inovati
X-ORIGINAL-URL:https://colegioinovati.com.br
X-WR-CALDESC:Eventos para Inovati
REFRESH-INTERVAL;VALUE=DURATION:PT1H
X-Robots-Tag:noindex
X-PUBLISHED-TTL:PT1H
BEGIN:VTIMEZONE
TZID:UTC
BEGIN:STANDARD
TZOFFSETFROM:+0000
TZOFFSETTO:+0000
TZNAME:UTC
DTSTART:20250101T000000
END:STANDARD
END:VTIMEZONE
BEGIN:VEVENT
DTSTART;VALUE=DATE:20260501
DTEND;VALUE=DATE:20260502
DTSTAMP:20260425T155957
CREATED:20251217T190453Z
LAST-MODIFIED:20251217T190453Z
UID:3355-1777593600-1777679999@colegioinovati.com.br
SUMMARY:Feriado Dia do trabalho
DESCRIPTION:
URL:https://colegioinovati.com.br/evento/feriado-dia-do-trabalho/
CATEGORIES:Feriado
END:VEVENT
BEGIN:VEVENT
DTSTART;VALUE=DATE:20260509
DTEND;VALUE=DATE:20260510
DTSTAMP:20260425T155957
CREATED:20251217T190915Z
LAST-MODIFIED:20251217T190915Z
UID:3363-1778284800-1778371199@colegioinovati.com.br
SUMMARY:Comemoração do Dia das Mães (Ed. Infantil e 1º Ano)
DESCRIPTION:
URL:https://colegioinovati.com.br/evento/comemoracao-do-dia-das-maes-ed-infantil-e-1o-ano/
CATEGORIES:Evento
END:VEVENT
BEGIN:VEVENT
DTSTART;VALUE=DATE:20260528
DTEND;VALUE=DATE:20260529
DTSTAMP:20260425T155957
CREATED:20251217T190519Z
LAST-MODIFIED:20251217T190519Z
UID:3357-1779926400-1780012799@colegioinovati.com.br
SUMMARY:Feriado Municipal
DESCRIPTION:
URL:https://colegioinovati.com.br/evento/feriado-municipal-3/
CATEGORIES:Feriado
END:VEVENT
BEGIN:VEVENT
DTSTART;VALUE=DATE:20260529
DTEND;VALUE=DATE:20260530
DTSTAMP:20260425T155957
CREATED:20251217T190550Z
LAST-MODIFIED:20251217T190550Z
UID:3359-1780012800-1780099199@colegioinovati.com.br
SUMMARY:Ponte de Feriado
DESCRIPTION:
URL:https://colegioinovati.com.br/evento/ponte-de-feriado-11/
CATEGORIES:Ponte de Feriado
END:VEVENT
END:VCALENDAR