BEGIN:VCALENDAR
VERSION:2.0
PRODID:-//Inovati - ECPv6.15.11//NONSGML v1.0//EN
CALSCALE:GREGORIAN
METHOD:PUBLISH
X-ORIGINAL-URL:https://colegioinovati.com.br
X-WR-CALDESC:Eventos para Inovati
REFRESH-INTERVAL;VALUE=DURATION:PT1H
X-Robots-Tag:noindex
X-PUBLISHED-TTL:PT1H
BEGIN:VTIMEZONE
TZID:UTC
BEGIN:STANDARD
TZOFFSETFROM:+0000
TZOFFSETTO:+0000
TZNAME:UTC
DTSTART:20250101T000000
END:STANDARD
END:VTIMEZONE
BEGIN:VEVENT
DTSTART;VALUE=DATE:20260604
DTEND;VALUE=DATE:20260605
DTSTAMP:20260425T174443
CREATED:20251217T190958Z
LAST-MODIFIED:20251217T190958Z
UID:3365-1780531200-1780617599@colegioinovati.com.br
SUMMARY:Feriado de Corpus Christi
DESCRIPTION:
URL:https://colegioinovati.com.br/evento/feriado-de-corpus-christi/
CATEGORIES:Feriado
END:VEVENT
BEGIN:VEVENT
DTSTART;VALUE=DATE:20260605
DTEND;VALUE=DATE:20260606
DTSTAMP:20260425T174443
CREATED:20251217T191043Z
LAST-MODIFIED:20251217T191043Z
UID:3367-1780617600-1780703999@colegioinovati.com.br
SUMMARY:Ponte de Feriado
DESCRIPTION:
URL:https://colegioinovati.com.br/evento/ponte-de-feriado-12/
CATEGORIES:Ponte de Feriado
END:VEVENT
BEGIN:VEVENT
DTSTART;TZID=UTC:20260608T080000
DTEND;TZID=UTC:20260619T170000
DTSTAMP:20260425T174443
CREATED:20251217T191158Z
LAST-MODIFIED:20251217T191158Z
UID:3371-1780905600-1781888400@colegioinovati.com.br
SUMMARY:Reunião Individual de Pais e Professores da Ed. Infantil e 1º Ano
DESCRIPTION:
URL:https://colegioinovati.com.br/evento/reuniao-individual-de-pais-e-professores-da-ed-infantil-e-1o-ano/
END:VEVENT
BEGIN:VEVENT
DTSTART;VALUE=DATE:20260613
DTEND;VALUE=DATE:20260614
DTSTAMP:20260425T174443
CREATED:20251217T191110Z
LAST-MODIFIED:20251217T191110Z
UID:3369-1781308800-1781395199@colegioinovati.com.br
SUMMARY:Festa Junina
DESCRIPTION:
URL:https://colegioinovati.com.br/evento/festa-junina-2/
CATEGORIES:Evento
END:VEVENT
BEGIN:VEVENT
DTSTART;TZID=UTC:20260622T080000
DTEND;TZID=UTC:20260626T170000
DTSTAMP:20260425T174443
CREATED:20251217T191242Z
LAST-MODIFIED:20251217T191242Z
UID:3373-1782115200-1782493200@colegioinovati.com.br
SUMMARY:Apresentação de trabalhos da Ed. Infantil e 1º Ano
DESCRIPTION:
URL:https://colegioinovati.com.br/evento/apresentacao-de-trabalhos-da-ed-infantil-e-1o-ano/
CATEGORIES:Evento
END:VEVENT
BEGIN:VEVENT
DTSTART;TZID=UTC:20260629T080000
DTEND;TZID=UTC:20260708T170000
DTSTAMP:20260425T174443
CREATED:20251217T191504Z
LAST-MODIFIED:20251217T191504Z
UID:3378-1782720000-1783530000@colegioinovati.com.br
SUMMARY:Temporada de Férias
DESCRIPTION:
URL:https://colegioinovati.com.br/evento/temporada-de-ferias-2/
END:VEVENT
BEGIN:VEVENT
DTSTART;TZID=UTC:20260629T080000
DTEND;TZID=UTC:20260728T170000
DTSTAMP:20260425T174443
CREATED:20251217T191549Z
LAST-MODIFIED:20251217T191549Z
UID:3380-1782720000-1785258000@colegioinovati.com.br
SUMMARY:Férias Escolares
DESCRIPTION:
URL:https://colegioinovati.com.br/evento/ferias-escolares/
END:VEVENT
END:VCALENDAR