BEGIN:VCALENDAR
VERSION:2.0
PRODID:-//Inovati - ECPv6.15.11//NONSGML v1.0//EN
CALSCALE:GREGORIAN
METHOD:PUBLISH
X-WR-CALNAME:Inovati
X-ORIGINAL-URL:https://colegioinovati.com.br
X-WR-CALDESC:Eventos para Inovati
REFRESH-INTERVAL;VALUE=DURATION:PT1H
X-Robots-Tag:noindex
X-PUBLISHED-TTL:PT1H
BEGIN:VTIMEZONE
TZID:UTC
BEGIN:STANDARD
TZOFFSETFROM:+0000
TZOFFSETTO:+0000
TZNAME:UTC
DTSTART:20250101T000000
END:STANDARD
END:VTIMEZONE
BEGIN:VEVENT
DTSTART;VALUE=DATE:20260808
DTEND;VALUE=DATE:20260809
DTSTAMP:20260425T232355
CREATED:20251217T192012Z
LAST-MODIFIED:20251217T192012Z
UID:3390-1786147200-1786233599@colegioinovati.com.br
SUMMARY:Comemoração Dia dos Pais (Ed. Infantil e 1º Ano)
DESCRIPTION:
URL:https://colegioinovati.com.br/evento/comemoracao-dia-dos-pais-ed-infantil-e-1o-ano/
CATEGORIES:Evento
END:VEVENT
BEGIN:VEVENT
DTSTART;TZID=UTC:20260828T080000
DTEND;TZID=UTC:20260906T170000
DTSTAMP:20260425T232355
CREATED:20251217T192136Z
LAST-MODIFIED:20251217T192136Z
UID:3394-1787904000-1788714000@colegioinovati.com.br
SUMMARY:Reunião de Pais Ens. Fund. I
DESCRIPTION:
URL:https://colegioinovati.com.br/evento/reuniao-de-pais-ens-fund-i-2/
END:VEVENT
BEGIN:VEVENT
DTSTART;VALUE=DATE:20260829
DTEND;VALUE=DATE:20260830
DTSTAMP:20260425T232355
CREATED:20251217T192047Z
LAST-MODIFIED:20251217T192047Z
UID:3392-1787961600-1788047999@colegioinovati.com.br
SUMMARY:Reunião de Pais e Professores - Ens. Fund. II
DESCRIPTION:
URL:https://colegioinovati.com.br/evento/reuniao-de-pais-e-professores-ens-fund-ii-2/
END:VEVENT
END:VCALENDAR